Workbook

Sheet REV
A1: Municipio de Atarjea, Gto. | C1: Ejercicio: | D1: 2025
A2: Reglas de Validación | C2: Periodicidad: | D2: Trimestral
A3: Correspondiente del 1 de Enero al 31 de Marzo de 2025 | C3: Corte: | D3: 1
A5: Clave_RV | B5: Regla | C5: Estados Financieros | D5: Cumplimiento a la Regla
A6: 01 ACT-ESF 01 | B6: Las cifras de la fila de Resultados del Ejercicio (Ahorro/Desahorro) de las columnas 20XN y 20XN-1, deben ser las mismas que se muestran en el Estado de Situación Financiera en la fila y columnas mencionadas. | C6: Estado de Actividades Estado de Situación Financiera | D6: =IF(('REV Det'!G7+'REV Det'!L7)=0,"Si cumple la regla","No cumple la regla") -> No cumple la regla
A7: 02 ACT-VHP 01 | B7: La cifra de la fila de Resultados del Ejercicio (Ahorro / Desahorro) de la columna 20XN, debe ser la misma con la que se muestra en el Estado de Variación en la Hacienda Pública en la fila de Resultados del Ejercicio (Ahorro/Desahorro) del apartado Variaciones de la Hacienda Pública/Patrimonio Generado Neto de 20XN, en la columna de Hacienda Pública / Patrimonio Generado del Ejercicio. | C7: Estado de Actividades Estado de Variación en la Hacienda Pública | D7: =IF(('REV Det'!G8+'REV Det'!L8)=0,"Si cumple la regla","No cumple la regla") -> No cumple la regla
A8: 02 ACT-VHP 02 | B8: La cifra de la fila de Resultados del Ejercicio (Ahorro / Desahorro) de la columna 20XN-1, debe ser la misma que se muestra en el Estado de Variación en la Hacienda Pública en la fila de Resultados del Ejercicio (Ahorro/Desahorro) del apartado Hacienda Pública/Patrimonio Generado Neto de 20XN-1, en la columna de Hacienda Pública / Patrimonio Generado del Ejercicio. | C8: Estado de Actividades Estado de Variación en la Hacienda Pública | D8: =IF(('REV Det'!G9+'REV Det'!L9)=0,"Si cumple la regla","No cumple la regla") -> No cumple la regla
A9: 02 ACT-VHP 03 | B9: La cifra de la fila de Resultados del Ejercicio (Ahorro / Desahorro) de la columna 20XN-1, debe ser la misma que se muestra en el Estado de Variación en la Hacienda Pública, en la fila Resultados de Ejercicios Anteriores del apartado Variaciones de la Hacienda Pública / Patrimonio Generado Neto de 20XN, en la columna Hacienda Pública / Patrimonio Generado del Ejercicio, con naturaleza contraria. | C9: Estado de Actividades Estado de Variación en la Hacienda Pública | D9: =IF(('REV Det'!G10+'REV Det'!L10)=0,"Si cumple la regla","No cumple la regla") -> No cumple la regla
A10: 03 ESF-ACT 01 | B10: Las cifras de la fila de Resultados del Ejercicio (Ahorro/Desahorro) de las columnas 20XN y 20XN-1, deben ser las obtenidas en el Estado de Actividades en la fila y columnas mencionadas. | C10: Estado de Situación Financiera Estado de Actividades | D10: =IF(('REV Det'!G11+'REV Det'!L11)=0,"Si cumple la regla","No cumple la regla") -> No cumple la regla
A11: 04 ESF-EAA 01 | B11: Las cifras de las filas de los rubros del Activo de las columnas 20XN y 20XN-1, deben ser las mismas que se muestran en el Estado Analítico del Activo en las filas de Activo en las columnas de Saldo Final y de Saldo Inicial respectivamente. | C11: Estado de Situación Financiera Estado Analítico del Activo | D11: =IF((SUM('REV Det'!G12:G27,'REV Det'!L12:L27))=0, "Si cumple la regla","No cumple la regla") -> Si cumple la regla
A12: 05 ESF-EFE 01 | B12: Las cifras de la fila de Efectivo y Equivalentes de las columnas 20XN y 20XN-1, deben ser las mismas que se muestran en el Estado de Flujos de Efectivo en la fila de Efectivo y Equivalentes al Efectivo al Final del Ejercicio en las columnas mencionadas. | C12: Estado de Situación Financiera Estado de Flujos de Efectivo | D12: =IF(('REV Det'!G28+'REV Det'!L28)=0,"Si cumple la regla","No cumple la regla") -> Si cumple la regla
A13: 05 ESF-EFE 02 | B13: La cifra de la fila de Efectivo y Equivalentes de la columna 20XN-1, debe ser la misma que se muestra en el Estado de Flujos de Efectivo en la fila de Efectivo y Equivalentes al Efectivo al Inicio del Ejercicio en la columna 20XN. | C13: Estado de Situación Financiera Estado de Flujos de Efectivo | D13: =IF(('REV Det'!G29+'REV Det'!L29)=0,"Si cumple la regla","No cumple la regla") -> Si cumple la regla
A14: 06 ESF-ESF 01 | B14: Las cifras de la fila de Total del Activo de las columnas 20XN y 20XN-1, deben ser las mismas que se muestran en la fila de Total del Pasivo y Hacienda Pública/Patrimonio en las columnas mencionadas. | C14: Estado de Situación Financiera Estado de Situación Financiera | D14: =IF(('REV Det'!G30+'REV Det'!L30)=0,"Si cumple la regla","No cumple la regla") -> No cumple la regla
A15: 07 ESF-ADP 01 | B15: Las cifras de la fila de Total del Pasivo de las columnas 20XN y 20XN-1, deben ser las mismas que se muestran en el Estado Analítico de la Deuda y Otros Pasivos en la fila de Total de Deuda Pública y Otros Pasivos en las columnas de Saldo Final del Periodo y de Saldo Inicial del Periodo respectivamente. | C15: Estado de Situación Financiera Estado Analítico de la Deuda y Otros pasivos | D15: =IF(('REV Det'!G31+'REV Det'!L31)=0,"Si cumple la regla","No cumple la regla") -> Si cumple la regla
A16: 08 ESF-VHP 01 | B16: La cifra de la fila de Hacienda Pública/Patrimonio Contribuido de la columna 20XN-1, debe ser la misma que se muestra en el Estado de Variación en la Hacienda Pública en la fila de Hacienda Pública/Patrimonio Contribuido Neto de 20XN-1 en las columnas de Hacienda Pública / Patrimonio Contribuido y Total. | C16: Estado de Situación Financiera Estado de Variación en la Hacienda Pública | D16: =IF((SUM('REV Det'!G32:G33,'REV Det'!L32:L33))=0, "Si cumple la regla","No cumple la regla") -> Si cumple la regla
A17: 08 ESF-VHP 02 | B17: La cifra de la fila de Hacienda Pública/Patrimonio Generado de la columna 20XN-1, debe ser la misma que se muestra en el Estado de Variación en la Hacienda Pública en la fila de Hacienda Pública/Patrimonio Generado Neto de 20XN-1 en la columna Total. | C17: Estado de Situación Financiera Estado de Variación en la Hacienda Pública | D17: =IF(('REV Det'!G34+'REV Det'!L34)=0,"Si cumple la regla","No cumple la regla") -> Si cumple la regla
A18: 08 ESF-VHP 03 | B18: La cifra de la fila de Exceso o Insuficiencia en la Actualización de la Hacienda Pública/Patrimonio de la columna 20XN-1, debe ser la misma que se muestra en el Estado de Variación en la Hacienda Pública en la fila de Exceso o Insuficiencia en la Actualización de la Hacienda Pública/Patrimonio Neto de 20XN-1 en las columnas de Exceso o Insuficiencia en la Actualización de la Hacienda Pública / Patrimonio y Total. | C18: Estado de Situación Financiera Estado de Variación en la Hacienda Pública | D18: =IF((SUM('REV Det'!G35:G36,'REV Det'!L35:L36))=0, "Si cumple la regla","No cumple la regla") -> Si cumple la regla
A19: 08 ESF-VHP 04 | B19: Las cifras de la fila de Total Hacienda Pública/Patrimonio de las columnas 20XN y 20XN-1, deben ser las mismas según corresponda, con las que se muestran en el Estado de Variación en la Hacienda Pública en las filas de la Hacienda Pública/Patrimonio Neto Final de 20XN y Hacienda Pública/Patrimonio Neto Final de 20XN-1 en la columna de Total respectivamente. | C19: Estado de Situación Financiera Estado de Variación en la Hacienda Pública | D19: =IF(('REV Det'!G37+'REV Det'!L37)=0,"Si cumple la regla","No cumple la regla") -> Si cumple la regla
A20: 09 VHP-ESF 01 | B20: La cifra de la fila de Hacienda Pública/Patrimonio Contribuido Neto de 20XN-1 de la columna de Hacienda Pública / Patrimonio Contribuido y columna Total, deben ser las mismas que se muestra en el Estado de Situación Financiera en la fila de Hacienda Pública/Patrimonio Contribuido en la columna 20XN-1. | C20: Estado de Variación en la Hacienda Pública Estado de Situación Financiera | D20: =IF((SUM('REV Det'!G38:G39,'REV Det'!L38:L39))=0, "Si cumple la regla","No cumple la regla") -> Si cumple la regla
A21: 09 VHP-ESF 02 | B21: La cifra de la fila de Hacienda Pública/Patrimonio Generado Neto de 20XN-1 de la columna Total, debe ser la misma que se muestra en el Estado de Situación Financiera en la fila de Hacienda Pública/Patrimonio Generado en la columna 20XN-1. | C21: Estado de Variación en la Hacienda Pública Estado de Situación Financiera | D21: =IF(('REV Det'!G40+'REV Det'!L40)=0,"Si cumple la regla","No cumple la regla") -> Si cumple la regla
A22: 09 VHP-ESF 03 | B22: La cifra de la fila de Exceso o Insuficiencia en la Actualización de la Hacienda Pública/Patrimonio Neto de 20XN-1 de la columna de Exceso o Insuficiencia en la Actualización de la Hacienda Pública / Patrimonio y columna Total, deben ser las mismas que se muestra en el Estado de Situación Financiera en la fila de Exceso o Insuficiencia en la Actualización de la Hacienda Pública/Patrimonio en la columna 20XN-1. | C22: Estado de Variación en la Hacienda Pública Estado de Situación Financiera | D22: =IF((SUM('REV Det'!G41:G42,'REV Det'!L41:L42))=0, "Si cumple la regla","No cumple la regla") -> Si cumple la regla
A23: 09 VHP-ESF 04 | B23: Las cifras de las filas de Hacienda Pública/Patrimonio Neto Final de 20XN-1 y de Hacienda Pública/Patrimonio Neto Final de 20XN de la columna de Total, deben ser las mismas según corresponda, con las que se muestran en el Estado de Situación Financiera en la fila de Total Hacienda Pública/Patrimonio en las columnas 20XN-1 y 20XN. | C23: Estado de Variación en la Hacienda Pública Estado de Situación Financiera | D23: =IF(('REV Det'!G43+'REV Det'!L43)=0,"Si cumple la regla","No cumple la regla") -> Si cumple la regla
A24: 10 VHP-CSF 01 | B24: Las cifras de las variaciones de las filas Aportaciones, Donaciones de Capital y Actualización de la columna Hacienda Pública / Patrimonio Contribuido del apartado Cambios en la Hacienda Pública/Patrimonio Contribuido Neto de 20XN, deben ser las mismas que se muestran en el Estado de Cambios en la Situación Financiera en el apartado Hacienda Pública/Patrimonio Contribuido de las filas mencionadas. | C24: Estado de Variación en la Hacienda Pública Estado de Cambios en la Situación Financiera | D24: =IF((SUM('REV Det'!G44:G46,'REV Det'!L44:L46))=0, "Si cumple la regla","No cumple la regla") -> Si cumple la regla
A25: 10 VHP-CSF 02 | B25: Las cifras de las variaciones de las filas Revalúos, Reservas y Rectificaciones de Resultados de Ejercicios Anteriores del apartado Variaciones de la Hacienda Pública/Patrimonio Generado Neto de 20XN de la columna Hacienda Pública / Patrimonio Generado del Ejercicio, deben ser las mismas que se muestran en el Estado de Cambios en la Situación Financiera en el apartado Hacienda Pública/Patrimonio Generado de las filas mencionadas. | C25: Estado de Variación en la Hacienda Pública Estado de Cambios en la Situación Financiera | D25: =IF((SUM('REV Det'!G47:G49,'REV Det'!L47:L49))=0, "Si cumple la regla","No cumple la regla") -> Si cumple la regla
A26: 10 VHP-CSF 03 | B26: La cifra de la variación de la fila Resultados de Ejercicios Anteriores del apartado Variaciones de la Hacienda Pública/Patrimonio Generado Neto de 20XN de la columna Hacienda Pública / Patrimonio Generado de Ejercicios Anteriores, debe ser la misma que se muestra en el Estado de Cambios en la Situación Financiera en el apartado Hacienda Pública/Patrimonio Generado de la fila mencionada. | C26: Estado de Variación en la Hacienda Pública Estado de Cambios en la Situación Financiera | D26: =IF(('REV Det'!G50+'REV Det'!L50)=0,"Si cumple la regla","No cumple la regla") -> Si cumple la regla
A27: 10 VHP-CSF 04 | B27: Las cifras de las variaciones en el apartado Cambios en el Exceso o Insuficiencia en la Actualización de la Hacienda Pública/Patrimonio Neto de 20XN en las filas Resultado por Posición Monetaria y Resultado por Tenencia de Activos no Monetarios de la columna Exceso o Insuficiencia en la Actualización de la Hacienda Pública/Patrimonio, deben ser las mismas que se muestran en el Estado de Cambios en la Situación Financiera en dicho concepto. | C27: Estado de Variación en la Hacienda Pública Estado de Cambios en la Situación Financiera | D27: =IF((SUM('REV Det'!G51:G52,'REV Det'!L51:L52))=0, "Si cumple la regla","No cumple la regla") -> Si cumple la regla
A28: 11 VHP-ACT 01 | B28: La cifra de la fila de Resultados del Ejercicio (Ahorro/Desahorro) del apartado Variaciones de la Hacienda Pública/Patrimonio Generado Neto de 20XN, en la columna de Hacienda Pública / Patrimonio Generado del Ejercicio debe ser la misma con la fila de Resultados del Ejercicio (Ahorro / Desahorro) de la columna 20XN del Estado de Actividades y del Estado de Situación Financiera. | C28: Estado de Variación en la Hacienda Pública Estado de Actividades | D28: =IF((SUM('REV Det'!G54:G55,'REV Det'!L54:L55))=0, "Si cumple la regla","No cumple la regla") -> No cumple la regla
A29: 11 VHP-ACT 02 | B29: La cifra de la fila de Resultados del Ejercicio (Ahorro/Desahorro) del apartado Hacienda Pública/Patrimonio Generado Neto de 20XN-1, en la columna de Hacienda Pública / Patrimonio Generado del Ejercicio debe ser la misma con la fila de Resultados del Ejercicio (Ahorro / Desahorro) de la columna 20XN-1 del Estado de Actividades y del Estado de Situación Financiera. | C29: Estado de Variación en la Hacienda Pública Estado de Actividades | D29: =IF((SUM('REV Det'!G56:G57,'REV Det'!L56:L57))=0, "Si cumple la regla","No cumple la regla") -> No cumple la regla
A30: 11 VHP-ACT 03 | B30: La cifra de la fila de Resultados de Ejercicios Anteriores del apartado Variaciones de la Hacienda Pública / Patrimonio Generado Neto de 20XN, en la columna Hacienda Pública / Patrimonio Generado del Ejercicio, con naturaleza contraria debe ser la misma en la fila de Resultados del Ejercicio (Ahorro / Desahorro) de la columna 20XN-1 del Estado de Actividades y del Estado de Situación Financiera. | C30: Estado de Variación en la Hacienda Pública Estado de Actividades | D30: =IF((SUM('REV Det'!G58:G59,'REV Det'!L58:L59))=0, "Si cumple la regla","No cumple la regla") -> No cumple la regla
A31: 12 VHP-CSF 01 | B31: La cifra de la fila de Resultados del Ejercicio (Ahorro/Desahorro) del apartado Variaciones de la Hacienda Pública/Patrimonio Generado Neto de 20XN, en la columna de Hacienda Pública / Patrimonio Generado del Ejercicio más la cifra de la fila de Resultados de Ejercicios Anteriores del apartado Variaciones de la Hacienda Pública / Patrimonio Generado Neto de 20XN, en la columna Hacienda Pública / Patrimonio Generado del Ejercicio, debe ser la misma con la fila de Resultados del Ejercicio (Ahorro / Desahorro) del Estado de Cambios en la Situación Financiera, si es positiva con el origen y si es negativa con la aplicación. | C31: Estado de Variación en la Hacienda Pública Estado de Cambios en la Situación Financiera | D31: =IF(('REV Det'!G53+'REV Det'!L53)=0,"Si cumple la regla","No cumple la regla") -> Si cumple la regla
A32: 13 CSF-EFE 01 | B32: La cifra obtenida en la fila de Efectivo y Equivalentes ya sea de la columna de Origen o de Aplicación, debe ser la misma que se muestra en el Estado de Flujos de Efectivo en la fila de Incremento/Disminución Neta en el Efectivo y Equivalentes al Efectivo de la columna 20XN. | C32: Estado de Cambios en la Situación Financiera Estado de Flujos de Efectivo | D32: =IF(('REV Det'!G60+'REV Det'!L60)=0,"Si cumple la regla","No cumple la regla") -> Si cumple la regla
A33: 14 CSF-EAA 01 | B33: Las cifras de las filas de los rubros de Activo en las columnas de Origen o Aplicación, deben ser las mismas según corresponda, con las que se muestran en el Estado Analítico del Activo en las filas de los rubros de Activo de la columna de Variación del Periodo. | C33: Estado de Cambios en la Situación Financiera Estado Analítico del Activo | D33: =IF((SUM('REV Det'!G61:G76,'REV Det'!L61:L76))=0, "Si cumple la regla","No cumple la regla") -> Si cumple la regla
A34: 15 CSF-VHP 01 | B34: A excepción del importe de Resultados del Ejercicio (Ahorro/Desahorro) y Resultados de Ejercicios Anteriores, todas las demás cifras de las filas del apartado Hacienda Pública / Patrimonio Generado del Estado de Cambios en la Situación Financiera deben ser las mismas con las filas de los rubros de Variaciones de la Hacienda Pública / Patrimonio Generado Neto de 20XN del Estado de Variación en la Hacienda Pública. | C34: Estado de Cambios en la Situación Financiera Estado de Variación en la Hacienda Pública | D34: =IF((SUM('REV Det'!G77:G79,'REV Det'!L77:L79))=0, "Si cumple la regla","No cumple la regla") -> Si cumple la regla
A35: 15 CSF-VHP 02 | B35: La cifra de la fila Resultados del Ejercicio (Ahorro/Desahorro) debe ser la misma que la suma de las cifras de los rubros Resultados del Ejercicio Ahorro / Desahorro y Resultados de Ejercicios Anteriores del apartado Variaciones de la Hacienda Pública / Patrimonio Generado Neto de 20XN del Estado de Variación en la Hacienda Pública. | C35: Estado de Cambios en la Situación Financiera Estado de Variación en la Hacienda Pública | D35: =IF(('REV Det'!G80+'REV Det'!L80)=0,"Si cumple la regla","No cumple la regla") -> Si cumple la regla
A36: 16 EFE-CSF 01 | B36: La cifra obtenida en la fila de Incremento/Disminución Neta en el Efectivo y Equivalentes al Efectivo de la columna 20XN, debe ser la misma que se muestra en el Estado de Cambios en la Situación Financiera en la fila de Efectivo y Equivalentes ya sea de la columna de Origen o de Aplicación. | C36: Estado de Flujos de Efectivo Estado de Cambios en la Situación Financiera | D36: =IF(('REV Det'!G81+'REV Det'!L81)=0,"Si cumple la regla","No cumple la regla") -> Si cumple la regla
A37: 17 EFE-ESF 01 | B37: Las cifras de la fila de Efectivo y Equivalentes al Efectivo al Final del Ejercicio de las columnas 20XN y 20XN-1, deben ser las mismas que se muestran en el Estado de Situación Financiera en la fila de Efectivo y Equivalentes en las columnas mencionadas. | C37: Estado de Flujos de Efectivo Estado de Situación Financiera | D37: =IF(('REV Det'!G82+'REV Det'!L82)=0,"Si cumple la regla","No cumple la regla") -> Si cumple la regla
A38: 17 EFE-ESF 02 | B38: La cifra de la fila de Efectivo y Equivalentes al Efectivo al Inicio del Ejercicio de la columna 20XN, debe ser la misma que se muestra en el Estado de Situación Financiera en la fila de Efectivo y Equivalentes de la columna 20XN-1. | C38: Estado de Flujos de Efectivo Estado de Situación Financiera | D38: =IF(('REV Det'!G83+'REV Det'!L83)=0,"Si cumple la regla","No cumple la regla") -> Si cumple la regla
A39: 18 EAA-ESF 01 | B39: Las cifras de las filas de los rubros de Activo de las columnas de Saldo Final y de Saldo Inicial, deben ser las mismas que se muestran en el Estado de Situación Financiera en las filas de los rubros del Activo de las columnas 20XN y 20XN-1 respectivamente. | C39: Estado Analítico del Activo Estado de Situación Financiera | D39: =IF((SUM('REV Det'!G84:G99,'REV Det'!L84:L99))=0, "Si cumple la regla","No cumple la regla") -> Si cumple la regla
A40: 19 EAA-CSF 01 | B40: Las cifras de las filas de los rubros de Activo de la columna de Variación del Periodo, deben ser las mismas que se muestran en el Estado de Cambios en la Situación Financiera en las filas de los rubros del Activo en las columnas de Origen o Aplicación. | C40: Estado Analítico del Activo Estado de Cambios en la Situación Financiera | D40: =IF((SUM('REV Det'!G100:G115,'REV Det'!L100:L115))=0, "Si cumple la regla","No cumple la regla") -> Si cumple la regla
A41: 20 ADP-ESF 01 | B41: Los saldos de la fila de Total de Deuda Pública y Otros Pasivos en las columnas de Saldo Inicial del Periodo y de Saldo Final del Periodo deben coincidir según corresponda, con el Estado de Situación Financiera en la fila del Total del Pasivo de las columnas 20XN-1 y 20XN respectivamente. | C41: Estado Analítico de la Deuda y Otros pasivos Estado de Situación Financiera | D41: =IF(('REV Det'!G116+'REV Det'!L116)=0,"Si cumple la regla","No cumple la regla") -> Si cumple la regla
...

Sheet REV Det
A1: =REV!A1 -> Municipio de Atarjea, Gto. | K1: Ejercicio: | L1: =REV!D1 -> 2025
A2: Reglas de Validación | K2: Periodicidad: | L2: Trimestral
A3: =REV!A3 -> Correspondiente del 1 de Enero al 31 de Marzo de 2025 | K3: Corte: | L3: =REV!D3 -> 1
A5: Clave_RV | B5: CRUCE/Concepto a validar | C5: 2022 | G5: DIFERENCIA | H5: 2021 | L5: DIFERENCIA | M5: CRUCE/Concepto a validar
C6: REPORTE | D6: IMPORTE | E6: REPORTE | F6: IMPORTE | H6: REPORTE | I6: IMPORTE | J6: REPORTE | K6: IMPORTE
A7: 01 ACT-ESF 01 | B7: Resultados del Ejercicio (Ahorro/ Desahorro) | C7: ACT | D7: =IF(ACT!B68>0,ACT!B68,ACT!B68*-1) -> 0 | E7: ESF | F7: =IF(ESF!E36>0,ESF!E36,ESF!E36*-1) -> 14765203 | G7: =ROUND(D7-F7,2) -> -14765203 | H7: ACT | I7: =IF(ACT!C68>0,ACT!C68,ACT!C68*-1) -> 0 | J7: ESF | K7: =IF(ESF!F36>0,ESF!F36,ESF!F36*-1) -> 20594987 | L7: =ROUND(I7-K7,2) -> -20594987 | M7: Resultados del Ejercicio (Ahorro/ Desahorro)
A8: 02 ACT-VHP 01 | B8: Resultados del Ejercicio (Ahorro/ Desahorro) | C8: ACT | D8: =IF(ACT!B68>0,ACT!B68,ACT!B68*-1) -> 0 | E8: VHP | F8: =IF(VHP!D28>0,VHP!D28,VHP!D28*-1) -> 14765203 | G8: =ROUND(D8-F8,2) -> -14765203 | M8: Resultados del Ejercicio (Ahorro/ Desahorro)
A9: 02 ACT-VHP 02 | B9: Resultados del Ejercicio (Ahorro/ Desahorro) | H9: ACT | I9: =IF(ACT!C68>0,ACT!C68,ACT!C68*-1) -> 0 | J9: VHP | K9: =IF(VHP!D10>0,VHP!D10,VHP!D10*-1) -> 20594987 | L9: =ROUND(I9-K9,2) -> -20594987 | M9: Resultados del Ejercicio (Ahorro/ Desahorro)
A10: 02 ACT-VHP 03 | B10: Resultados del Ejercicio (Ahorro/ Desahorro) | E10: VHP | F10: =IF(VHP!D29>0,VHP!D29,VHP!D29*-1) -> 20594987 | H10: ACT | I10: =IF(ACT!C68>0,ACT!C68,ACT!C68*-1) -> 0 | L10: =ROUND(F10-I10,2) -> 20594987 | M10: Resultados del Ejercicio (Ahorro/ Desahorro)
A11: 03 ESF-ACT 01 | B11: Resultados del Ejercicio (Ahorro/ Desahorro) | C11: ESF | D11: =IF(ESF!E36>0,ESF!E36,ESF!E36*-1) -> 14765203 | E11: ACT | F11: =IF(ACT!B68>0,ACT!B68,ACT!B68*-1) -> 0 | G11: =ROUND(D11-F11,2) -> 14765203 | H11: ESF | I11: =IF(ESF!F36>0,ESF!F36,ESF!F36*-1) -> 20594987 | J11: ACT | K11: =IF(ACT!C68>0,ACT!C68,ACT!C68*-1) -> 0 | L11: =ROUND(I11-K11,2) -> 20594987 | M11: Resultados del Ejercicio (Ahorro/ Desahorro)
A12: 04 ESF-EAA 01 | B12: Efectivo y Equivalentes | C12: ESF | D12: =IF(ESF!B5>0,ESF!B5,ESF!B5*-1) -> 22020315 | E12: EAA | F12: =IF(EAA!E5>0,EAA!E5,EAA!E5*-1) -> 22020315 | G12: =ROUND(D12-F12,2) -> 0 | H12: ESF | I12: =IF(ESF!C5>0,ESF!C5,ESF!C5*-1) -> 14623005 | J12: EAA | K12: =IF(EAA!B5>0,EAA!B5,EAA!B5*-1) -> 14623005 | L12: =ROUND(I12-K12,2) -> 0 | M12: Efectivo y Equivalentes
B13: Derechos a Recibir Efectivo o Equivalentes | C13: ESF | D13: =IF(ESF!B6>0,ESF!B6,ESF!B6*-1) -> 3545336.9 | E13: EAA | F13: =IF(EAA!E6>0,EAA!E6,EAA!E6*-1) -> 3545336.9 | G13: =ROUND(D13-F13,2) -> 0 | H13: ESF | I13: =IF(ESF!C6>0,ESF!C6,ESF!C6*-1) -> 3087891.2 | J13: EAA | K13: =IF(EAA!B6>0,EAA!B6,EAA!B6*-1) -> 3087891.2 | L13: =ROUND(I13-K13,2) -> 0 | M13: Derechos a Recibir Efectivo o Equivalentes
B14: Derechos a Recibir Bienes o Servicios | C14: ESF | D14: =IF(ESF!B7>0,ESF!B7,ESF!B7*-1) -> 636644.48 | E14: EAA | F14: =IF(EAA!E7>0,EAA!E7,EAA!E7*-1) -> 636644.48 | G14: =ROUND(D14-F14,2) -> 0 | H14: ESF | I14: =IF(ESF!C7>0,ESF!C7,ESF!C7*-1) -> 1752279.6 | J14: EAA | K14: =IF(EAA!B7>0,EAA!B7,EAA!B7*-1) -> 1752279.6 | L14: =ROUND(I14-K14,2) -> 0 | M14: Derechos a Recibir Bienes o Servicios
B15: Inventarios | C15: ESF | D15: =IF(ESF!B8>0,ESF!B8,ESF!B8*-1) -> 0 | E15: EAA | F15: =IF(EAA!E8>0,EAA!E8,EAA!E8*-1) -> 0 | G15: =ROUND(D15-F15,2) -> 0 | H15: ESF | I15: =IF(ESF!C8>0,ESF!C8,ESF!C8*-1) -> 0 | J15: EAA | K15: =IF(EAA!B8>0,EAA!B8,EAA!B8*-1) -> 0 | L15: =ROUND(I15-K15,2) -> 0 | M15: Inventarios
B16: Almacenes | C16: ESF | D16: =IF(ESF!B9>0,ESF!B9,ESF!B9*-1) -> 0 | E16: EAA | F16: =IF(EAA!E9>0,EAA!E9,EAA!E9*-1) -> 0 | G16: =ROUND(D16-F16,2) -> 0 | H16: ESF | I16: =IF(ESF!C9>0,ESF!C9,ESF!C9*-1) -> 0 | J16: EAA | K16: =IF(EAA!B9>0,EAA!B9,EAA!B9*-1) -> 0 | L16: =ROUND(I16-K16,2) -> 0 | M16: Almacenes
B17: Estimación por Pérdida o Deterioro de Activos Circulantes | C17: ESF | D17: =IF(ESF!B10>0,ESF!B10,ESF!B10*-1) -> 0 | E17: EAA | F17: =IF(EAA!E10>0,EAA!E10,EAA!E10*-1) -> 0 | G17: =ROUND(D17-F17,2) -> 0 | H17: ESF | I17: =IF(ESF!C10>0,ESF!C10,ESF!C10*-1) -> 0 | J17: EAA | K17: =IF(EAA!B10>0,EAA!B10,EAA!B10*-1) -> 0 | L17: =ROUND(I17-K17,2) -> 0 | M17: Estimación por Pérdida o Deterioro de Activos Circulantes
B18: Otros Activos Circulantes | C18: ESF | D18: =IF(ESF!B11>0,ESF!B11,ESF!B11*-1) -> 0 | E18: EAA | F18: =IF(EAA!E11>0,EAA!E11,EAA!E11*-1) -> 0 | G18: =ROUND(D18-F18,2) -> 0 | H18: ESF | I18: =IF(ESF!C11>0,ESF!C11,ESF!C11*-1) -> 0 | J18: EAA | K18: =IF(EAA!B11>0,EAA!B11,EAA!B11*-1) -> 0 | L18: =ROUND(I18-K18,2) -> 0 | M18: Otros Activos Circulantes
B19: Inversiones Financieras a Largo Plazo | C19: ESF | D19: =IF(ESF!B16>0,ESF!B16,ESF!B16*-1) -> 963755.72 | E19: EAA | F19: =IF(EAA!E13>0,EAA!E13,EAA!E13*-1) -> 963755.72 | G19: =ROUND(D19-F19,2) -> 0 | H19: ESF | I19: =IF(ESF!C16>0,ESF!C16,ESF!C16*-1) -> 963755.72 | J19: EAA | K19: =IF(EAA!B13>0,EAA!B13,EAA!B13*-1) -> 963755.72 | L19: =ROUND(I19-K19,2) -> 0 | M19: Inversiones Financieras a Largo Plazo
B20: Derechos a Recibir Efectivo o Equivalentes a Largo Plazo | C20: ESF | D20: =IF(ESF!B17>0,ESF!B17,ESF!B17*-1) -> 0 | E20: EAA | F20: =IF(EAA!E14>0,EAA!E14,EAA!E14*-1) -> 0 | G20: =ROUND(D20-F20,2) -> 0 | H20: ESF | I20: =IF(ESF!C17>0,ESF!C17,ESF!C17*-1) -> 0 | J20: EAA | K20: =IF(EAA!B14>0,EAA!B14,EAA!B14*-1) -> 0 | L20: =ROUND(I20-K20,2) -> 0 | M20: Derechos a Recibir Efectivo o Equivalentes a Largo Plazo
B21: Bienes Inmuebles, Infraestructura y Construcciones en Proceso | C21: ESF | D21: =IF(ESF!B18>0,ESF!B18,ESF!B18*-1) -> 2.787885e+08 | E21: EAA | F21: =IF(EAA!E15>0,EAA!E15,EAA!E15*-1) -> 2.787885e+08 | G21: =ROUND(D21-F21,2) -> 0 | H21: ESF | I21: =IF(ESF!C18>0,ESF!C18,ESF!C18*-1) -> 2.727852e+08 | J21: EAA | K21: =IF(EAA!B15>0,EAA!B15,EAA!B15*-1) -> 2.727852e+08 | L21: =ROUND(I21-K21,2) -> 0 | M21: Bienes Inmuebles, Infraestructura y Construcciones en Proceso
B22: Bienes Muebles | C22: ESF | D22: =IF(ESF!B19>0,ESF!B19,ESF!B19*-1) -> 32315358 | E22: EAA | F22: =IF(EAA!E16>0,EAA!E16,EAA!E16*-1) -> 32315358 | G22: =ROUND(D22-F22,2) -> 0 | H22: ESF | I22: =IF(ESF!C19>0,ESF!C19,ESF!C19*-1) -> 30760558 | J22: EAA | K22: =IF(EAA!B16>0,EAA!B16,EAA!B16*-1) -> 30760558 | L22: =ROUND(I22-K22,2) -> 0 | M22: Bienes Muebles
B23: Activos Intangibles | C23: ESF | D23: =IF(ESF!B20>0,ESF!B20,ESF!B20*-1) -> 112810 | E23: EAA | F23: =IF(EAA!E17>0,EAA!E17,EAA!E17*-1) -> 112810 | G23: =ROUND(D23-F23,2) -> 0 | H23: ESF | I23: =IF(ESF!C20>0,ESF!C20,ESF!C20*-1) -> 112810 | J23: EAA | K23: =IF(EAA!B17>0,EAA!B17,EAA!B17*-1) -> 112810 | L23: =ROUND(I23-K23,2) -> 0 | M23: Activos Intangibles
B24: Depreciación, Deterioro y Amortización Acumulada de Bienes | C24: ESF | D24: =IF(ESF!B21>0,ESF!B21,ESF!B21*-1) -> 16837132 | E24: EAA | F24: =IF(EAA!E18>0,EAA!E18,EAA!E18*-1) -> 16837132 | G24: =ROUND(D24-F24,2) -> 0 | H24: ESF | I24: =IF(ESF!C21>0,ESF!C21,ESF!C21*-1) -> 16837132 | J24: EAA | K24: =IF(EAA!B18>0,EAA!B18,EAA!B18*-1) -> 16837132 | L24: =ROUND(I24-K24,2) -> 0 | M24: Depreciación, Deterioro y Amortización Acumulada de Bienes
B25: Activos Diferidos | C25: ESF | D25: =IF(ESF!B22>0,ESF!B22,ESF!B22*-1) -> 4775856.9 | E25: EAA | F25: =IF(EAA!E19>0,EAA!E19,EAA!E19*-1) -> 4775856.9 | G25: =ROUND(D25-F25,2) -> 0 | H25: ESF | I25: =IF(ESF!C22>0,ESF!C22,ESF!C22*-1) -> 4775856.9 | J25: EAA | K25: =IF(EAA!B19>0,EAA!B19,EAA!B19*-1) -> 4775856.9 | L25: =ROUND(I25-K25,2) -> 0 | M25: Activos Diferidos
B26: Estimación por Pérdida o Deterioro de Activos no Circulantes | C26: ESF | D26: =IF(ESF!B23>0,ESF!B23,ESF!B23*-1) -> 0 | E26: EAA | F26: =IF(EAA!E20>0,EAA!E20,EAA!E20*-1) -> 0 | G26: =ROUND(D26-F26,2) -> 0 | H26: ESF | I26: =IF(ESF!C23>0,ESF!C23,ESF!C23*-1) -> 0 | J26: EAA | K26: =IF(EAA!B20>0,EAA!B20,EAA!B20*-1) -> 0 | L26: =ROUND(I26-K26,2) -> 0 | M26: Estimación por Pérdida o Deterioro de Activos no Circulantes
B27: Otros Activos no Circulantes | C27: ESF | D27: =IF(ESF!B24>0,ESF!B24,ESF!B24*-1) -> 0 | E27: EAA | F27: =IF(EAA!E21>0,EAA!E21,EAA!E21*-1) -> 0 | G27: =ROUND(D27-F27,2) -> 0 | H27: ESF | I27: =IF(ESF!C24>0,ESF!C24,ESF!C24*-1) -> 0 | J27: EAA | K27: =IF(EAA!B21>0,EAA!B21,EAA!B21*-1) -> 0 | L27: =ROUND(I27-K27,2) -> 0 | M27: Otros Activos no Circulantes
A28: 05 ESF-EFE 01 | B28: Efectivo y Equivalentes | C28: ESF | D28: =IF(ESF!B5>0,ESF!B5,ESF!B5*-1) -> 22020315 | E28: EFE | F28: =IF(EFE!B65>0,EFE!B65,EFE!B65*-1) -> 22020315 | G28: =ROUND(D28-F28,2) -> 0 | M28: Efectivo y Equivalentes
A29: 05 ESF-EFE 02 | B29: Efectivo y Equivalentes | H29: ESF | I29: =IF(ESF!C5>0,ESF!C5,ESF!C5*-1) -> 14623005 | J29: EFE | K29: =IF(EFE!B63>0,EFE!B63,EFE!B63*-1) -> 14623005 | L29: =ROUND(I29-K29,2) -> 0 | M29: Efectivo y Equivalentes
A30: 06 ESF-ESF 01 | B30: Total Activo= Pasivo + Capital | C30: ESF | D30: =IF(ESF!B28>0,ESF!B28,ESF!B28*-1) -> 3.2439393e+08 | E30: ESF | F30: =IF(ESF!E48>0,ESF!E48,ESF!E48*-1) -> 3.0375819e+08 | G30: =ROUND(D30-F30,2) -> 20635740 | H30: ESF | I30: =IF(ESF!C28>0,ESF!C28,ESF!C28*-1) -> 3.1009671e+08 | J30: ESF | K30: =IF(ESF!F48>0,ESF!F48,ESF!F48*-1) -> 3.1005596e+08 | L30: =ROUND(I30-K30,2) -> 40753.52 | M30: Total Activo= Pasivo + Capital
A31: 07 ESF-ADP 01 | B31: Total Pasivo | C31: ESF | D31: =IF(ESF!E26>0,ESF!E26,ESF!E26*-1) -> 2565456 | E31: ADP | F31: =IF(ADP!E34>0,ADP!E34,ADP!E34*-1) -> 2565456 | G31: =ROUND(D31-F31,2) -> 0 | H31: ESF | I31: =IF(ESF!F26>0,ESF!F26,ESF!F26*-1) -> 3033440.6 | J31: ADP | K31: =IF(ADP!D34>0,ADP!D34,ADP!D34*-1) -> 3033440.6 | L31: =ROUND(I31-K31,2) -> 0 | M31: Total Pasivo
A32: 08 ESF-VHP 01 | B32: Hacienda Pública/Patrimonio Contribuido | H32: ESF | I32: =IF(ESF!F30>0,ESF!F30,ESF!F30*-1) -> 6882418.9 | J32: VHP | K32: =IF(VHP!B4>0,VHP!B4,VHP!B4*-1) -> 6882418.9 | L32: =ROUND(I32-K32,2) -> 0 | M32: Hacienda Pública/Patrimonio Contribuido
B33: Hacienda Pública/Patrimonio Contribuido | H33: ESF | I33: =IF(ESF!F30>0,ESF!F30,ESF!F30*-1) -> 6882418.9 | J33: VHP | K33: =IF(VHP!F4>0,VHP!F4,VHP!F4*-1) -> 6882418.9 | L33: =ROUND(I33-K33,2) -> 0 | M33: Hacienda Pública/Patrimonio Contribuido
A34: 08 ESF-VHP 02 | B34: Hacienda Pública/Patrimonio Generado | H34: ESF | I34: =IF(ESF!F35>0,ESF!F35,ESF!F35*-1) -> 3.001401e+08 | J34: VHP | K34: =IF(VHP!F9>0,VHP!F9,VHP!F9*-1) -> 3.001401e+08 | L34: =ROUND(I34-K34,2) -> 0 | M34: Hacienda Pública/Patrimonio Generado
A35: 08 ESF-VHP 03 | B35: Exceso o Insuficiencia en la Actualización de la Hacienda Pública/Patrimonio | H35: ESF | I35: =IF(ESF!F42>0,ESF!F42,ESF!F42*-1) -> 0 | J35: VHP | K35: =IF(VHP!E16>0,VHP!E16,VHP!E16*-1) -> 0 | L35: =ROUND(I35-K35,2) -> 0 | M35: Exceso o Insuficiencia en la Actualización de la Hacienda Pública/Patrimonio
B36: Exceso o Insuficiencia en la Actualización de la Hacienda Pública/Patrimonio | H36: ESF | I36: =IF(ESF!F42>0,ESF!F42,ESF!F42*-1) -> 0 | J36: VHP | K36: =IF(VHP!F16>0,VHP!F16,VHP!F16*-1) -> 0 | L36: =ROUND(I36-K36,2) -> 0 | M36: Exceso o Insuficiencia en la Actualización de la Hacienda Pública/Patrimonio
A37: 08 ESF-VHP 04 | B37: Total de Hacienda Pública/Patrimonio | C37: ESF | D37: =IF(ESF!E46>0,ESF!E46,ESF!E46*-1) -> 3.0119274e+08 | E37: VHP | F37: =IF(VHP!F38>0,VHP!F38,VHP!F38*-1) -> 3.0119274e+08 | G37: =ROUND(D37-F37,2) -> 0 | H37: ESF | I37: =IF(ESF!F46>0,ESF!F46,ESF!F46*-1) -> 3.0702252e+08 | J37: VHP | K37: =IF(VHP!F20>0,VHP!F20,VHP!F20*-1) -> 3.0702252e+08 | L37: =ROUND(I37-K37,2) -> 0 | M37: Total de Hacienda Pública/Patrimonio
A38: 09 VHP-ESF 01 | B38: Hacienda Pública/Patrimonio Contribuido Neto de 20XN-1 | H38: VHP | I38: =IF(VHP!B4>0,VHP!B4,VHP!B4*-1) -> 6882418.9 | J38: ESF | K38: =IF(ESF!F30>0,ESF!F30,ESF!F30*-1) -> 6882418.9 | L38: =ROUND(I38-K38,2) -> 0 | M38: Hacienda Pública/Patrimonio Contribuido Neto de 20XN-1
B39: Hacienda Pública/Patrimonio Contribuido Neto de 20XN-1 | H39: VHP | I39: =IF(VHP!F4>0,VHP!F4,VHP!F4*-1) -> 6882418.9 | J39: ESF | K39: =IF(ESF!F30>0,ESF!F30,ESF!F30*-1) -> 6882418.9 | L39: =ROUND(I39-K39,2) -> 0 | M39: Hacienda Pública/Patrimonio Contribuido Neto de 20XN-1
A40: 09 VHP-ESF 02 | B40: Hacienda Pública/Patrimonio Generado Neto de 20XN-1 | H40: VHP | I40: =IF(VHP!F9>0,VHP!F9,VHP!F9*-1) -> 3.001401e+08 | J40: ESF | K40: =IF(ESF!F35>0,ESF!F35,ESF!F35*-1) -> 3.001401e+08 | L40: =ROUND(I40-K40,2) -> 0 | M40: Hacienda Pública/Patrimonio Generado Neto de 20XN-1
A41: 09 VHP-ESF 03 | B41: Exceso o Insuficiencia en la Actualización de la Hacienda Pública/Patrimonio Neto de 20XN-1 | H41: VHP | I41: =IF(VHP!E16>0,VHP!E16,VHP!E16*-1) -> 0 | J41: ESF | K41: =IF(ESF!F42>0,ESF!F42,ESF!F42*-1) -> 0 | L41: =ROUND(I41-K41,2) -> 0 | M41: Exceso o Insuficiencia en la Actualización de la Hacienda Pública/Patrimonio Neto de 20XN-1
...

Sheet Rev Det P
A1: Nombre del Ente Público | H1: Ejercicio: | I1: 2025
A2: Reglas de Validación Presupuestales y Programáticas | H2: Periodicidad: | I2: Trimestral
A3: Correspondiente del XXXX al XXXX | H3: Corte: | I3: 1
A5: Clave_RV | B5: Detalle | C5: REPORTE | D5: CONCEPTO | E5: IMPORTE | F5: REPORTE | G5: CONCEPTO | H5: IMPORTE | I5: DIFERENCIA
A7: 01 EAI - NDM_Mem 01 | B7: 01 EAI 01 | C7: EAI | D7: Estimado | E7: =+EAI!B15 -> 0 | F7: Nota de memoria | G7: 8.1.1 | H7: =+Memoria!C41 -> 0 | I7: =ROUND(E7-H7,2) -> 0
A8: 02 EAI - NDM_Mem 02 | B8: 01 EAI 02 | C8: EAI | D8: Modificaciones | E8: =+EAI!C15 -> 0 | F8: Nota de memoria | G8: 8.1.3 | H8: =+Memoria!C43 -> 0 | I8: =ROUND(E8-H8,2) -> 0
A9: 03 EAI - NDM_Mem 03 | B9: 01 EAI 03 | C9: EAI | D9: Devengado | E9: =+EAI!E15 -> 0 | F9: Nota de memoria | G9: 8.1.4 + 8.1.5 | H9: =+Memoria!C44+Memoria!C45 -> 0 | I9: =ROUND(E9+H9,2) -> 0
A10: 04 EAI - NDM_Mem 04 | B10: 01 EAI 04 | C10: EAI | D10: Recaudado | E10: =+EAI!F15 -> 0 | F10: Nota de memoria | G10: 8.1.5 | H10: =+Memoria!C45 -> 0 | I10: =ROUND(E10+H10,2) -> 0
A12: 01 EAE - NDM_Mem 01 | B12: 02 CA 01 | C12: CA | D12: Aprobado | E12: =+CA!B13 -> 0 | F12: Nota de memoria | G12: 8.2.1 | H12: =+Memoria!C50 -> 0 | I12: =+ROUND(E12+H12,2) -> 0
A13: 02 EAE - NDM_Mem 02 | B13: 02 CA 02 | C13: CA | D13: Modificaciones | E13: =+CA!C13 -> 0 | F13: Nota de memoria | G13: 8.2.3 | H13: =+Memoria!C52 -> 0 | I13: =+ROUND(E13+H13,2) -> 0
A14: 03 EAE - NDM_Mem 03 | B14: 02 CA 03 | C14: CA | D14: Devengado | E14: =+CA!E13 -> 0 | F14: Nota de memoria | G14: 8.2.5 + 8.2.6 + 8.2.7 | H14: =+Memoria!C54+Memoria!C55+Memoria!C56 -> 0 | I14: =ROUND(E14-H14,2) -> 0
A15: 04 EAE - NDM_Mem 04 | B15: 02 CA 04 | C15: CA | D15: Pagado | E15: =+CA!F13 -> 0 | F15: Nota de memoria | G15: 8.25 | H15: =+Memoria!C56 -> 0 | I15: =ROUND(E15-H15,2) -> 0
A17: 01 EAE - NDM_Mem 01 | B17: 03 CTG 01 | C17: CTG | D17: Aprobado | E17: =+CTG!B15 -> 0 | F17: Nota de memoria | G17: 8.2.1 | H17: =+Memoria!C50 -> 0 | I17: =+ROUND(E17+H17,2) -> 0
A18: 02 EAE - NDM_Mem 02 | B18: 03 CTG 02 | C18: CTG | D18: Modificaciones | E18: =+CTG!C15 -> 0 | F18: Nota de memoria | G18: 8.2.3 | H18: =+Memoria!C52 -> 0 | I18: =+ROUND(E18+H18,2) -> 0
A19: 03 EAE - NDM_Mem 03 | B19: 03 CTG 03 | C19: CTG | D19: Devengado | E19: =+CTG!E15 -> 0 | F19: Nota de memoria | G19: 8.2.5 + 8.2.6 + 8.2.7 | H19: =+Memoria!C54+Memoria!C55+Memoria!C56 -> 0 | I19: =+ROUND(E19-H19,2) -> 0
A20: 04 EAE - NDM_Mem 04 | B20: 03 CTG 04 | C20: CTG | D20: Pagado | E20: =+CTG!F15 -> 0 | F20: Nota de memoria | G20: 8.25 | H20: =+Memoria!C56 -> 0 | I20: =+ROUND(E20-H20,2) -> 0
A22: 01 EAE - NDM_Mem 01 | B22: 04 COG 01 | C22: COG | D22: Aprobado | E22: =+COG!B76 -> 0 | F22: Nota de memoria | G22: 8.2.1 | H22: =+Memoria!C50 -> 0 | I22: =+ROUND(E22+H22,2) -> 0
A23: 02 EAE - NDM_Mem 02 | B23: 04 COG 02 | C23: COG | D23: Modificaciones | E23: =+COG!C76 -> 0 | F23: Nota de memoria | G23: 8.2.3 | H23: =+Memoria!C52 -> 0 | I23: =+ROUND(E23+H23,2) -> 0
A24: 03 EAE - NDM_Mem 03 | B24: 04 COG 03 | C24: COG | D24: Devengado | E24: =+COG!E76 -> 0 | F24: Nota de memoria | G24: 8.2.5 + 8.2.6 + 8.2.7 | H24: =+Memoria!C54+Memoria!C55+Memoria!C56 -> 0 | I24: =+ROUND(E24-H24,2) -> 0
A25: 04 EAE - NDM_Mem 04 | B25: 04 COG 04 | C25: COG | D25: Pagado | E25: =+COG!F76 -> 0 | F25: Nota de memoria | G25: 8.25 | H25: =+Memoria!C56 -> 0 | I25: =+ROUND(E25-H25,2) -> 0
A27: 01 EAE - NDM_Mem 01 | B27: 05 CFG 01 | C27: CFG | D27: Aprobado | E27: =+CFG!B41 -> 0 | F27: Nota de memoria | G27: 8.2.1 | H27: =+Memoria!C50 -> 0 | I27: =+ROUND(E27+H27,2) -> 0
A28: 02 EAE - NDM_Mem 02 | B28: 05 CFG 02 | C28: CFG | D28: Modificaciones | E28: =+CFG!C41 -> 0 | F28: Nota de memoria | G28: 8.2.3 | H28: =+Memoria!C52 -> 0 | I28: =+ROUND(E28+H28,2) -> 0
A29: 03 EAE - NDM_Mem 03 | B29: 05 CFG 03 | C29: CFG | D29: Devengado | E29: =+CFG!E41 -> 0 | F29: Nota de memoria | G29: 8.2.5 + 8.2.6 + 8.2.7 | H29: =+Memoria!C54+Memoria!C55+Memoria!C56 -> 0 | I29: =+ROUND(E29-H29,2) -> 0
A30: 04 EAE - NDM_Mem 04 | B30: 05 CFG 04 | C30: CFG | D30: Pagado | E30: =+CFG!F41 -> 0 | F30: Nota de memoria | G30: 8.25 | H30: =+Memoria!C56 -> 0 | I30: =+ROUND(E30-H30,2) -> 0
A32: 01 ENT - IPF 01 | B32: 06 EN 01 | C32: EN | D32: Contratación | E32: =+EN!B27 -> 0 | F32: IPF | G32: Financiamiento (Recaudado/Pagado) | H32: =+IPF!E25 -> 0 | I32: =+ROUND(E32-H32,2) -> 0
A33: 01 ENT - IPF 01 | B33: 06 EN 02 | C33: EN | D33: Amortización | E33: =+EN!C27 -> 0 | F33: IPF | G33: Amortización de la deuda (Recaudado/Pagado) | H33: =+IPF!E27 -> 0 | I33: =+ROUND(E33-H33,2) -> 0
A34: 01 ENT - IPF 01 | B34: 06 EN 03 | C34: EN | D34: Endeudamiento Neto | E34: =+EN!D27 -> 0 | F34: IPF | G34: Endeudamiento ó desendeudamiento (Recaudado/Pagado) | H34: =+IPF!E29 -> 0 | I34: =+ROUND(E34-H34,2) -> 0
A36: 01 IND - EAE 05 | B36: 07 ID 01 | C36: ID | D36: Devengado | E36: =+ID!B23 -> 0 | F36: COG | G36: Intereses de la Deuda Pública (Devengado) | H36: =+COG!E70 -> 0 | I36: =+ROUND(E36-H36,2) -> 0
A37: 01 IND - EAE 05 | B37: 07 ID 02 | C37: ID | D37: Pagado | E37: =+ID!C23 -> 0 | F37: COG | G37: Intereses de la Deuda Pública (Pagado) | H37: =+COG!F70 -> 0 | I37: =+ROUND(E37-H37,2) -> 0
A39: 01 GCP - EAE 01 | B39: 08 GCP 01 | C39: GCP | D39: Aprobado | E39: =+GCP!B36 -> 0 | F39: Nota de memoria | G39: 8.2.1 | H39: =+Memoria!C50 -> 0 | I39: =+ROUND(E39+H39,2) -> 0
A40: 02 GCP - EAE 02 | B40: 08 GCP 02 | C40: GCP | D40: Modificaciones | E40: =+GCP!C36 -> 0 | F40: Nota de memoria | G40: 8.2.3 | H40: =+Memoria!C52 -> 0 | I40: =+ROUND(E40+H40,2) -> 0
A41: 03 GCP - EAE 03 | B41: 08 GCP 03 | C41: GCP | D41: Devengado | E41: =+GCP!E36 -> 0 | F41: Nota de memoria | G41: 8.2.5 + 8.2.6 + 8.2.7 | H41: =+Memoria!C54+Memoria!C55+Memoria!C56 -> 0 | I41: =ROUND(E41-H41,2) -> 0
A42: 04 GCP - EAE 04 | B42: 08 GCP 04 | C42: GCP | D42: Pagado | E42: =+GCP!F36 -> 0 | F42: Nota de memoria | G42: 8.25 | H42: =+Memoria!C56 -> 0 | I42: =ROUND(E42-H42,2) -> 0
A44: 01 GCP - EAE 01 | B44: 09 GCP 01 | C44: GCP | D44: Aprobado | E44: =+GCP!B36 -> 0 | F44: CA | G44: Aprobado | H44: =+CA!B13 -> 0 | I44: =+ROUND(E44-H44,2) -> 0
A45: 02 GCP - EAE 02 | B45: 09 GCP 02 | C45: GCP | D45: Modificaciones | E45: =+GCP!C36 -> 0 | F45: CA | G45: Modificaciones | H45: =+CA!C13 -> 0 | I45: =+ROUND(E45-H45,2) -> 0
A46: 03 GCP - EAE 03 | B46: 09 GCP 03 | C46: GCP | D46: Devengado | E46: =+GCP!E36 -> 0 | F46: CA | G46: Devengado | H46: =+CA!E13 -> 0 | I46: =ROUND(E46-H46,2) -> 0
A47: 04 GCP - EAE 04 | B47: 09 GCP 04 | C47: GCP | D47: Pagado | E47: =+GCP!F36 -> 0 | F47: CA | G47: Pagado | H47: =+CA!F13 -> 0 | I47: =ROUND(E47-H47,2) -> 0
A49: 01 GCP - EAE 01 | B49: 10 GCP 01 | C49: GCP | D49: Aprobado | E49: =+GCP!B36 -> 0 | F49: CTG | G49: Aprobado | H49: =+CTG!B15 -> 0 | I49: =+ROUND(E49-H49,2) -> 0
A50: 02 GCP - EAE 02 | B50: 10 GCP 02 | C50: GCP | D50: Modificaciones | E50: =+GCP!C36 -> 0 | F50: CTG | G50: Modificaciones | H50: =+CTG!C15 -> 0 | I50: =+ROUND(E50-H50,2) -> 0
A51: 03 GCP - EAE 03 | B51: 10 GCP 03 | C51: GCP | D51: Devengado | E51: =+GCP!E36 -> 0 | F51: CTG | G51: Devengado | H51: =+CTG!E15 -> 0 | I51: =ROUND(E51-H51,2) -> 0
...

Sheet ACT
A1: Municipio de Atarjea, Gto. Estado de Actividades Del 1 de Enero al 31 de Marzo de 2025 (Cifras en Pesos)
A2: Concepto | B2: 2025 | C2: 2024
A3: INGRESOS Y OTROS BENEFICIOS
A4: Ingresos de Gestión | B4: =SUM(B5:B11) -> 0 | C4: =SUM(C5:C11) -> 0
A5: Impuestos | B5: 0 | C5: 0 | D5: 4110
A6: Cuotas y Aportaciones de Seguridad Social | B6: 0 | C6: 0 | D6: 4120
A7: Contribuciones de Mejoras | B7: 0 | C7: 0 | D7: 4130
A8: Derechos | B8: 0 | C8: 0 | D8: 4140
A9: Productos | B9: 0 | C9: 0 | D9: 4150
A10: Aprovechamientos | B10: 0 | C10: 0 | D10: 4160
A11: Ingresos por Venta de Bienes y Prestación de Servicios | B11: 0 | C11: 0 | D11: 4170
A13: Participaciones, Aportaciones, Convenios, Incentivos Derivados de la Colaboración Fiscal, Fondos Distintos de Aportaciones, Transferencias, Asignaciones, Subsidios y Subvenciones, y Pensiones y Jubilaciones | B13: =SUM(B14:B15) -> 0 | C13: =SUM(C14:C15) -> 0
A14: Participaciones, Aportaciones, Convenios, Incentivos Derivados de la Colaboración Fiscal y Fondos Distintos de Aportaciones | B14: 0 | C14: 0 | D14: 4210
A15: Transferencias, Asignaciones, Subsidios y Subvenciones, y Pensiones y Jubilaciones | B15: 0 | C15: 0 | D15: 4220
A17: Otros Ingresos y Beneficios | B17: =SUM(B18:B22) -> 0 | C17: =SUM(C18:C22) -> 0
A18: Ingresos Financieros | B18: 0 | C18: 0 | D18: 4310
A19: Incremento por Variación de Inventarios | B19: 0 | C19: 0 | D19: 4320
A20: Disminución del Exceso de Estimaciones por Pérdida o Deterioro u Obsolescencia | B20: 0 | C20: 0 | D20: 4330
A21: Disminución del Exceso de Provisiones | B21: 0 | C21: 0 | D21: 4340
A22: Otros Ingresos y Beneficios Varios | B22: 0 | C22: 0 | D22: 4390
A24: Total de Ingresos y Otros Beneficios | B24: =SUM(B4+B13+B17) -> 0 | C24: =SUM(C4+C13+C17) -> 0
A26: GASTOS Y OTRAS PÉRDIDAS
A27: Gastos de Funcionamiento | B27: =SUM(B28:B30) -> 0 | C27: =SUM(C28:C30) -> 0
A28: Servicios Personales | B28: 0 | C28: 0 | D28: 5110
A29: Materiales y Suministros | B29: 0 | C29: 0 | D29: 5120
A30: Servicios Generales | B30: 0 | C30: 0 | D30: 5130
A32: Transferencias, Asignaciones, Subsidios y Otras Ayudas | B32: =SUM(B33:B41) -> 0 | C32: =SUM(C33:C41) -> 0
A33: Transferencias Internas y Asignaciones al Sector Público | B33: 0 | C33: 0 | D33: 5210
A34: Transferencias al Resto del Sector Público | B34: 0 | C34: 0 | D34: 5220
A35: Subsidios y Subvenciones | B35: 0 | C35: 0 | D35: 5230
A36: Ayudas Sociales | B36: 0 | C36: 0 | D36: 5240
A37: Pensiones y Jubilaciones | B37: 0 | C37: 0 | D37: 5250
A38: Transferencias a Fideicomisos, Mandatos y Contratos Análogos | B38: 0 | C38: 0 | D38: 5260
A39: Transferencias a la Seguridad Social | B39: 0 | C39: 0 | D39: 5270
A40: Donativos | B40: 0 | C40: 0 | D40: 5280
A41: Transferencias al Exterior | B41: 0 | C41: 0 | D41: 5290
A43: Participaciones y Aportaciones | B43: =SUM(B44:B46) -> 0 | C43: =SUM(C44:C46) -> 0
A44: Participaciones | B44: 0 | C44: 0 | D44: 5310
A45: Aportaciones | B45: 0 | C45: 0 | D45: 5320
A46: Convenios | B46: 0 | C46: 0 | D46: 5330
...

Sheet ESF
A1: Municipio de Atarjea, Gto. Estado de Situación Financiera Al 31 de Marzo de 2025 (Cifras en Pesos)
A2: Concepto | B2: 2025 | C2: 2024 | D2: Concepto | E2: 2025 | F2: 2024
A3: ACTIVO | D3: PASIVO
A4: Activo Circulante | D4: Pasivo Circulante
A5: Efectivo y Equivalentes | B5: 22020315 | C5: 14623005 | D5: Cuentas por Pagar a Corto Plazo | E5: 2565456 | F5: 3033440.6
A6: Derechos a Recibir Efectivo o Equivalentes | B6: 3545336.9 | C6: 3087891.2 | D6: Documentos por Pagar a Corto Plazo | E6: 0 | F6: 0
A7: Derechos a Recibir Bienes o Servicios | B7: 636644.48 | C7: 1752279.6 | D7: Porción a Corto Plazo de la Deuda Pública a Largo Plazo | E7: 0 | F7: 0
A8: Inventarios | B8: 0 | C8: 0 | D8: Títulos y Valores a Corto Plazo | E8: 0 | F8: 0
A9: Almacenes | B9: 0 | C9: 0 | D9: Pasivos Diferidos a Corto Plazo | E9: 0 | F9: 0
A10: Estimación por Pérdida o Deterioro de Activos Circulantes | B10: 0 | C10: 0 | D10: Fondos y Bienes de Terceros en Garantía y/o Administración a Corto Plazo | E10: 0 | F10: 0
A11: Otros Activos Circulantes | B11: 0 | C11: 0 | D11: Provisiones a Corto Plazo | E11: 0 | F11: 0
D12: Otros Pasivos a Corto Plazo | E12: 0 | F12: 0
A13: Total de Activos Circulantes | B13: =SUM(B5:B11) -> 26202297 | C13: =SUM(C5:C11) -> 19463175
D14: Total de Pasivos Circulantes | E14: =SUM(E5:E12) -> 2565456 | F14: =SUM(F5:F12) -> 3033440.6
A15: Activo No Circulante
A16: Inversiones Financieras a Largo Plazo | B16: -963755.72 | C16: -963755.72 | D16: Pasivo No Circulante
A17: Derechos a Recibir Efectivo o Equivalentes a Largo Plazo | B17: 0 | C17: 0 | D17: Cuentas por Pagar a Largo Plazo | E17: 0 | F17: 0
A18: Bienes Inmuebles, Infraestructura y Construcciones en Proceso | B18: 2.787885e+08 | C18: 2.727852e+08 | D18: Documentos por Pagar a Largo Plazo | E18: 0 | F18: 0
A19: Bienes Muebles | B19: 32315358 | C19: 30760558 | D19: Deuda Pública a Largo Plazo | E19: 0 | F19: 0
A20: Activos Intangibles | B20: 112810 | C20: 112810 | D20: Pasivos Diferidos a Largo Plazo | E20: 0 | F20: 0
A21: Depreciación, Deterioro y Amortización Acumulada de Bienes | B21: -16837132 | C21: -16837132 | D21: Fondos y Bienes de Terceros en Garantía y/o Administración a Largo Plazo | E21: 0 | F21: 0
A22: Activos Diferidos | B22: 4775856.9 | C22: 4775856.9 | D22: Provisiones a Largo Plazo | E22: 0 | F22: 0
A23: Estimación por Pérdida o Deterioro de Activos no Circulantes | B23: 0 | C23: 0
A24: Otros Activos no Circulantes | B24: 0 | C24: 0 | D24: Total de Pasivos No Circulantes | E24: =SUM(E17:E22) -> 0 | F24: =SUM(F17:F22) -> 0
A26: Total de Activos No Circulantes | B26: =SUM(B16:B24) -> 2.9819164e+08 | C26: =SUM(C16:C24) -> 2.9063354e+08 | D26: Total del Pasivo | E26: =SUM(E24+E14) -> 2565456 | F26: =SUM(F14+F24) -> 3033440.6
A28: Total del Activo | B28: =B13+B26 -> 3.2439393e+08 | C28: =C13+C26 -> 3.1009671e+08 | D28: HACIENDA PÚBLICA/PATRIMONIO
D30: Hacienda Pública/Patrimonio Contribuido | E30: =SUM(E31:E33) -> 6882418.9 | F30: =SUM(F31:F33) -> 6882418.9
D31: Aportaciones | E31: 6071228.9 | F31: 6071228.9
D32: Donaciones de Capital | E32: 811190 | F32: 811190
D33: Actualización de la Hacienda Pública/Patrimonio | E33: 0 | F33: 0
D35: Hacienda Pública/Patrimonio Generado | E35: =SUM(E36:E40) -> 2.9431032e+08 | F35: =SUM(F36:F40) -> 3.001401e+08
D36: Resultados del Ejercicio (Ahorro/ Desahorro) | E36: 14765203 | F36: 20594987
D37: Resultados de Ejercicios Anteriores | E37: 2.7845338e+08 | F37: 2.7845338e+08
D38: Revalúos | E38: 1091735 | F38: 1091735
D39: Reservas | E39: 0 | F39: 0
D40: Rectificaciones de Resultados de Ejercicios Anteriores | E40: 0 | F40: 0
D42: Exceso o Insuficiencia en la Actualización de la Hacienda Pública/Patrimonio | E42: =SUM(E43:E44) -> 0 | F42: =SUM(F43:F44) -> 0
D43: Resultado por Posición Monetaria | E43: 0 | F43: 0
D44: Resultado por Tenencia de Activos no Monetarios | E44: 0 | F44: 0
D46: Total Hacienda Pública/Patrimonio | E46: =SUM(E42+E35+E30) -> 3.0119274e+08 | F46: =SUM(F42+F35+F30) -> 3.0702252e+08
...

Sheet VHP
A1: Municipio de Atarjea, Gto. Estado de Variación en la Hacienda Pública Del 1 de Enero 31 de Marzo de 2025 (Cifras en Pesos)
A2: Concepto | B2: Hacienda Pública / Patrimonio Contribuido | C2: Hacienda Pública / Patrimonio Generado de Ejercicios Anteriores | D2: Hacienda Pública / Patrimonio Generado del Ejercicio | E2: Exceso o Insuficiencia en la Actualización de la Hacienda Pública / Patrimonio | F2: Total
A4: Hacienda Pública/Patrimonio Contribuido Neto de 2024 | B4: =SUM(B5:B7) -> 6882418.9 | F4: =SUM(B4:E4) -> 6882418.9
A5: Aportaciones | B5: 6071228.9 | F5: =SUM(B5:E5) -> 6071228.9
A6: Donaciones de Capital | B6: 811190 | F6: =SUM(B6:E6) -> 811190
A7: Actualización de la Hacienda Pública/Patrimonio | B7: 0 | F7: =SUM(B7:E7) -> 0
A9: Hacienda Pública/Patrimonio Generado Neto de 2024 | C9: =SUM(C10:C14) -> 2.7954511e+08 | D9: =D10 -> 20594987 | F9: =SUM(B9:E9) -> 3.001401e+08
A10: Resultados del Ejercicio (Ahorro/Desahorro) | D10: 20594987 | F10: =SUM(B10:E10) -> 20594987
A11: Resultados de Ejercicios Anteriores | C11: 2.7845338e+08 | F11: =SUM(B11:E11) -> 2.7845338e+08
A12: Revalúos | C12: 1091735 | F12: =SUM(B12:E12) -> 1091735
A13: Reservas | C13: 0 | F13: =SUM(B13:E13) -> 0
A14: Rectificaciones de Resultados de Ejercicios Anteriores | C14: 0 | F14: =SUM(B14:E14) -> 0
A16: Exceso o Insuficiencia en la Actualización de la Hacienda Pública/Patrimonio Neto de 2024 | E16: =SUM(E17:E18) -> 0 | F16: =SUM(B16:E16) -> 0
A17: Resultado por Posición Monetaria | E17: 0 | F17: =SUM(B17:E17) -> 0
A18: Resultado por Tenencia de Activos no Monetarios | E18: 0 | F18: =SUM(B18:E18) -> 0
A20: Hacienda Pública/Patrimonio Neto Final de 2024 | B20: =B4 -> 6882418.9 | C20: =C9 -> 2.7954511e+08 | D20: =D9 -> 20594987 | E20: =E16 -> 0 | F20: =SUM(B20:E20) -> 3.0702252e+08
A22: Cambios en la Hacienda Pública/Patrimonio Contribuido Neto de 2025 | B22: =SUM(B23:B25) -> 0 | F22: =SUM(B22:E22) -> 0
A23: Aportaciones | B23: 0 | F23: =SUM(B23:E23) -> 0
A24: Donaciones de Capital | B24: 0 | F24: =SUM(B24:E24) -> 0
A25: Actualización de la Hacienda Pública/Patrimonio | B25: 0 | F25: =SUM(B25:E25) -> 0
A27: Variaciones de la Hacienda Pública/Patrimonio Generado Neto de 2025 | C27: =C29 -> 0 | D27: =SUM(D28:D32) -> -5829784.1 | F27: =SUM(B27:E27) -> -5829784.1
A28: Resultados del Ejercicio (Ahorro/Desahorro) | D28: 14765203 | F28: =SUM(B28:E28) -> 14765203
A29: Resultados de Ejercicios Anteriores | C29: 0 | D29: -20594987 | F29: =SUM(B29:E29) -> -20594987
A30: Revalúos | D30: 0 | F30: =SUM(B30:E30) -> 0
A31: Reservas | D31: 0 | F31: =SUM(B31:E31) -> 0
A32: Rectificaciones de Resultados de Ejercicios Anteriores | D32: 0 | F32: =SUM(B32:E32) -> 0
A34: Cambios en el Exceso o Insuficiencia en la Actualización de la Hacienda Pública/Patrimonio Neto de 2025 | E34: =SUM(E35:E36) -> 0 | F34: =SUM(B34:E34) -> 0
A35: Resultado por Posición Monetaria | E35: 0 | F35: =SUM(B35:E35) -> 0
A36: Resultado por Tenencia de Activos no Monetarios | E36: 0 | F36: =SUM(B36:E36) -> 0
A38: Hacienda Pública/Patrimonio Neto Final de 2025 | B38: =B20+B22 -> 6882418.9 | C38: =+C20+C27 -> 2.7954511e+08 | D38: =D20+D27 -> 14765203 | E38: =+E20+E34 -> 0 | F38: =SUM(B38:E38) -> 3.0119274e+08
A40: Bajo protesta de decir verdad declaramos que los Estados Financieros y sus notas, son razonablemente correctos y son responsabilidad del emisor.

Sheet CSF
A1: Municipio de Atarjea, Gto. Estado de Cambios en la Situación Financiera Del 1 de Enero al 31 de Marzo de 2025 (Cifras en Pesos)
A2: Concepto | B2: Origen | C2: Aplicación
A3: ACTIVO | B3: =B4+B13 -> 1115635.1 | C3: =C4+C13 -> 15412853
A4: Activo Circulante | B4: =SUM(B5:B11) -> 1115635.1 | C4: =SUM(C5:C11) -> 7854756.2
A5: Efectivo y Equivalentes | B5: 0 | C5: 7397310.6
A6: Derechos a Recibir Efectivo o Equivalentes | B6: 0 | C6: 457445.64
A7: Derechos a Recibir Bienes o Servicios | B7: 1115635.1 | C7: 0
A8: Inventarios | B8: 0 | C8: 0
A9: Almacenes | B9: 0 | C9: 0
A10: Estimación por Pérdida o Deterioro de Activos Circulantes | B10: 0 | C10: 0
A11: Otros Activos Circulantes | B11: 0 | C11: 0
A13: Activo No Circulante | B13: =SUM(B14:B22) -> 0 | C13: =SUM(C14:C22) -> 7558097
A14: Inversiones Financieras a Largo Plazo | B14: 0 | C14: 0
A15: Derechos a Recibir Efectivo o Equivalentes a Largo Plazo | B15: 0 | C15: 0
A16: Bienes Inmuebles, Infraestructura y Construcciones en Proceso | B16: 0 | C16: 6003297
A17: Bienes Muebles | B17: 0 | C17: 1554800
A18: Activos Intangibles | B18: 0 | C18: 0
A19: Depreciación, Deterioro y Amortización Acumulada de Bienes | B19: 0 | C19: 0
A20: Activos Diferidos | B20: 0 | C20: 0
A21: Estimación por Pérdida o Deterioro de Activos no Circulantes | B21: 0 | C21: 0
A22: Otros Activos no Circulantes | B22: 0 | C22: 0
A24: PASIVO | B24: =B25+B35 -> 0 | C24: =C25+C35 -> 467984.61
A25: Pasivo Circulante | B25: =SUM(B26:B33) -> 0 | C25: =SUM(C26:C33) -> 467984.61
A26: Cuentas por Pagar a Corto Plazo | B26: 0 | C26: 467984.61
A27: Documentos por Pagar a Corto Plazo | B27: 0 | C27: 0
A28: Porción a Corto Plazo de la Deuda Pública a Largo Plazo | B28: 0 | C28: 0
A29: Títulos y Valores a Corto Plazo | B29: 0 | C29: 0
A30: Pasivos Diferidos a Corto Plazo | B30: 0 | C30: 0
A31: Fondos y Bienes de Terceros en Garantía y/o Administración a Corto Plazo | B31: 0 | C31: 0
A32: Provisiones a Corto Plazo | B32: 0 | C32: 0
A33: Otros Pasivos a Corto Plazo | B33: 0 | C33: 0
A35: Pasivo No Circulante | B35: =SUM(B36:B41) -> 0 | C35: =SUM(C36:C41) -> 0
A36: Cuentas por Pagar a Largo Plazo | B36: 0 | C36: 0
A37: Documentos por Pagar a Largo Plazo | B37: 0 | C37: 0
A38: Deuda Pública a Largo Plazo | B38: 0 | C38: 0
A39: Pasivos Diferidos a Largo Plazo | B39: 0 | C39: 0
A40: Fondos y Bienes de Terceros en Garantía y/o Administración a Largo Plazo | B40: 0 | C40: 0
A41: Provisiones a Largo Plazo | B41: 0 | C41: 0
A43: HACIENDA PÚBLICA/PATRIMONIO | B43: =B45+B50+B57 -> 0 | C43: =C45+C50+C57 -> 5829784.1
A45: Hacienda Pública/Patrimonio Contribuido | B45: =SUM(B46:B48) -> 0 | C45: =SUM(C46:C48) -> 0
...

Sheet EFE
A1: Municipio de Atarjea, Gto. Estado de Flujos de Efectivo Del 1 de Enero al 31 de Marzo de 2025 (Cifras en Pesos)
A2: Concepto | B2: 2025 | C2: 2024 | V2: 20XN-1
A3: Flujos de Efectivo de las Actividades de Operación
A4: Origen | B4: =SUM(B5:B14) -> 25123115 | C4: =SUM(C5:C14) -> 1.0157529e+08 | D4: XX
A5: Impuestos | B5: 34968 | C5: 56678 | D5: 100000
A6: Cuotas y Aportaciones de Seguridad Social | B6: 0 | C6: 0 | D6: 200000
A7: Contribuciones de Mejoras | B7: 0 | C7: 0 | D7: 300000
A8: Derechos | B8: 9196.62 | C8: 42649.82 | D8: 400000
A9: Productos | B9: -8733.36 | C9: 114650.02 | D9: 500000
A10: Aprovechamientos | B10: 30560.82 | C10: 572437.45 | D10: 600000
A11: Ingresos por Venta de Bienes y Prestación de Servicios | B11: 0 | C11: 0 | D11: 700000
A12: Participaciones, Aportaciones, Convenios, Incentivos Derivados de la Colaboración Fiscal y Fondos Distintos de Aportaciones | B12: 23455577 | C12: 83889648 | D12: 800000
A13: Transferencias, Asignaciones, Subsidios y Subvenciones, y Pensiones y Jubilaciones | B13: 1601546.1 | C13: 16899230 | D13: 900000
A14: Otros Orígenes de Operación | B14: 0 | C14: 0 | D14: OTOROP
D15: XX
A16: Aplicación | B16: =SUM(B17:B32) -> 10357912 | C16: =SUM(C17:C32) -> 78673213 | D16: XX
A17: Servicios Personales | B17: 3841234.2 | C17: 21155431 | D17: 1000
A18: Materiales y Suministros | B18: 2123277.3 | C18: 17132937 | D18: 2000
A19: Servicios Generales | B19: 1143163.9 | C19: 15313751 | D19: 3000
A20: Transferencias Internas y Asignaciones al Sector Público | B20: 0 | C20: 0 | D20: 4100
A21: Transferencias al resto del Sector Público | B21: 960000 | C21: 3950735.8 | D21: 4200
A22: Subsidios y Subvenciones | B22: 0 | C22: 0 | D22: 4300
A23: Ayudas Sociales | B23: 2290237 | C23: 21120357 | D23: 4400
A24: Pensiones y Jubilaciones | B24: 0 | C24: 0 | D24: 4500
A25: Transferencias a Fideicomisos, Mandatos y Contratos Análogos | B25: 0 | C25: 0 | D25: 4600
A26: Transferencias a la Seguridad Social | B26: 0 | C26: 0 | D26: 4700
A27: Donativos | B27: 0 | C27: 0 | D27: 4800
A28: Transferencias al Exterior | B28: 0 | C28: 0 | D28: 4900
... A31: Convenios | B31: 0 | C31: 0 | D31: 8500
A32: Otras Aplicaciones de Operación | B32: 0 | C32: 0 | D32: XX
A33: Flujos Netos de Efectivo por Actividades de Operación | B33: =B4-B16 -> 14765203 | C33: =C4-C16 -> 22902080 | D33: XX
D34: XX
A35: Flujos de Efectivo de las actividades de Inversión | D35: XX
A36: Origen | B36: =SUM(B37:B39) -> 0 | C36: =SUM(C37:C39) -> 0 | D36: XX
A37: Bienes Inmuebles, Infraestructura y Construcciones en Proceso | B37: 0 | C37: 0 | D37: 620001
A38: Bienes Muebles | B38: 0 | C38: 0 | D38: 621001
A39: Otros Orígenes de Inversión | B39: 0 | C39: 0 | D39: XX
D40: XX
A41: Aplicación | B41: =SUM(B42:B44) -> 7558097 | C41: =SUM(C42:C44) -> 73181272 | D41: XX
A42: Bienes Inmuebles, Infraestructura y Construcciones en Proceso | B42: 6003297 | C42: 68384107 | D42: 6000
...

Sheet EAA
A1: Municipio de Atarjea, Gto. Estado Analítico del Activo Del 1 de Enero al 31 de Marzo de 2025 (Cifras en Pesos)
A2: Concepto | B2: Saldo Inicial | C2: Cargos del Periodo | D2: Abonos del Periodo | E2: Saldo Final | F2: Variación Del Periodo
A3: ACTIVO | B3: =B4+B12 -> 3.1009671e+08 | C3: =C4+C12 -> 84342864 | D3: =D4+D12 -> 70045646 | E3: =E4+E12 -> 3.2439393e+08 | F3: =F4+F12 -> 14297218
A4: Activo Circulante | B4: =SUM(B5:B11) -> 19463175 | C4: =SUM(C5:C11) -> 58857885 | D4: =SUM(D5:D11) -> 52118764 | E4: =SUM(E5:E11) -> 26202297 | F4: =SUM(F5:F11) -> 6739121.1
A5: Efectivo y Equivalentes | B5: 14623005 | C5: 55285547 | D5: 47888237 | E5: =B5+C5-D5 -> 22020315 | F5: =E5-B5 -> 7397310.6
A6: Derechos a Recibir Efectivo o Equivalentes | B6: 3087891.2 | C6: 1184467.4 | D6: 727021.8 | E6: =B6+C6-D6 -> 3545336.9 | F6: =E6-B6 -> 457445.64
A7: Derechos a Recibir Bienes o Servicios | B7: 1752279.6 | C7: 2387870.4 | D7: 3503505.5 | E7: =B7+C7-D7 -> 636644.48 | F7: =E7-B7 -> -1115635.1
A8: Inventarios | B8: 0 | C8: 0 | D8: 0 | E8: =B8+C8-D8 -> 0 | F8: =E8-B8 -> 0
A9: Almacenes | B9: 0 | C9: 0 | D9: 0 | E9: =B9+C9-D9 -> 0 | F9: =E9-B9 -> 0
A10: Estimación por Pérdida o Deterioro de Activos Circulantes | B10: 0 | C10: 0 | D10: 0 | E10: =B10+C10-D10 -> 0 | F10: =E10-B10 -> 0
A11: Otros Activos Circulantes | B11: 0 | C11: 0 | D11: 0 | E11: =B11+C11-D11 -> 0 | F11: =E11-B11 -> 0
A12: Activo No Circulante | B12: =SUM(B13:B21) -> 2.9063354e+08 | C12: =SUM(C13:C21) -> 25484980 | D12: =SUM(D13:D21) -> 17926883 | E12: =SUM(E13:E21) -> 2.9819164e+08 | F12: =SUM(F13:F21) -> 7558097
A13: Inversiones Financieras a Largo Plazo | B13: -963755.72 | C13: 0 | D13: 0 | E13: =B13+C13-D13 -> -963755.72 | F13: =E13-B13 -> 0
A14: Derechos a Recibir Efectivo o Equivalentes a Largo Plazo | B14: 0 | C14: 0 | D14: 0 | E14: =B14+C14-D14 -> 0 | F14: =E14-B14 -> 0
A15: Bienes Inmuebles, Infraestructura y Construcciones en Proceso | B15: 2.727852e+08 | C15: 22375380 | D15: 16372083 | E15: =B15+C15-D15 -> 2.787885e+08 | F15: =E15-B15 -> 6003297
A16: Bienes Muebles | B16: 30760558 | C16: 3109600 | D16: 1554800 | E16: =B16+C16-D16 -> 32315358 | F16: =E16-B16 -> 1554800
A17: Activos Intangibles | B17: 112810 | C17: 0 | D17: 0 | E17: =B17+C17-D17 -> 112810 | F17: =E17-B17 -> 0
A18: Depreciación, Deterioro y Amortización Acumulada de Bienes | B18: -16837132 | C18: 0 | D18: 0 | E18: =B18+C18-D18 -> -16837132 | F18: =E18-B18 -> 0
A19: Activos Diferidos | B19: 4775856.9 | C19: 0 | D19: 0 | E19: =B19+C19-D19 -> 4775856.9 | F19: =E19-B19 -> 0
A20: Estimación por Pérdida o Deterioro de Activos no Circulantes | B20: 0 | C20: 0 | D20: 0 | E20: =B20+C20-D20 -> 0 | F20: =E20-B20 -> 0
A21: Otros Activos no Circulantes | B21: 0 | C21: 0 | D21: 0 | E21: =B21+C21-D21 -> 0 | F21: =E21-B21 -> 0
A23: Bajo protesta de decir verdad declaramos que los Estados Financieros y sus notas, son razonablemente correctos y son responsabilidad del emisor.

Sheet ADP
A1: Municipio de Atarjea, Gto. Estado Analítico de la Deuda y Otros Pasivos Del 1 de Enero al 31 de Marzo de 2025 (Cifras en Pesos)
A2: Denominación de las Deudas | B2: Moneda de Contratación | C2: Institución o País Acreedor | D2: Saldo Inicial del Período | E2: Saldo Final del Período
A3: DEUDA PÚBLICA | D3: =D16+D30 -> 0 | E3: =E16+E30 -> 0
A4: Corto Plazo
A5: Deuda Interna | D5: =SUM(D6:D8) -> 0 | E5: =SUM(E6:E8) -> 0
A6: Instituciones de Crédito | D6: 0 | E6: 0
A7: Títulos y Valores | D7: 0 | E7: 0
A8: Arrendamientos Financieros | D8: 0 | E8: 0
A10: Deuda Externa | D10: =SUM(D11:D14) -> 0 | E10: =SUM(E11:E14) -> 0
A11: Organismos Financieros Internacionales | D11: 0 | E11: 0
A12: Deuda Bilateral | D12: 0 | E12: 0
A13: Títulos y Valores | D13: 0 | E13: 0
A14: Arrendamientos Financieros | D14: 0 | E14: 0
A16: Subtotal de Deuda Pública a Corto Plazo | D16: =D10+D5 -> 0 | E16: =E10+E5 -> 0
A18: Largo Plazo
A19: Deuda Interna | D19: =SUM(D20:D22) -> 0 | E19: =SUM(E20:E22) -> 0
A20: Instituciones de Crédito | D20: 0 | E20: 0
A21: Títulos y Valores | D21: 0 | E21: 0
A22: Arrendamientos Financieros | D22: 0 | E22: 0
A24: Deuda Externa | D24: =SUM(D25:D28) -> 0 | E24: =SUM(E25:E28) -> 0
A25: Organismos Financieros Internacionales | D25: 0 | E25: 0
A26: Deuda Bilateral | D26: 0 | E26: 0
